BEGIN:VCALENDAR
VERSION:2.0
PRODID:-//Silver Lake Love - ECPv6.15.1.1//NONSGML v1.0//EN
CALSCALE:GREGORIAN
METHOD:PUBLISH
X-ORIGINAL-URL:https://www.silverlakelove.org
X-WR-CALDESC:Events for Silver Lake Love
REFRESH-INTERVAL;VALUE=DURATION:PT1H
X-Robots-Tag:noindex
X-PUBLISHED-TTL:PT1H
BEGIN:VTIMEZONE
TZID:UTC
BEGIN:STANDARD
TZOFFSETFROM:+0000
TZOFFSETTO:+0000
TZNAME:UTC
DTSTART:20150101T000000
END:STANDARD
END:VTIMEZONE
BEGIN:VEVENT
DTSTART;TZID=UTC:20161229T180000
DTEND;TZID=UTC:20161229T200000
DTSTAMP:20260423T174206
CREATED:20170117T200128Z
LAST-MODIFIED:20170117T200128Z
UID:714-1483034400-1483041600@www.silverlakelove.org
SUMMARY:Make Someone Happy Hour
DESCRIPTION:The Silver Lake Love Make Someone Happy Hour ™is our take on Happy Hour. Instead of grabbing a drink after work\, grab your buddies and come make someone happy with us! \nHelp us break down the chasm of “us and them”\, there is only us. Make Someone Happy Hour is an hour of sharing\, love\, and connection for all walks of life. Come join us in discovering something new about our humanity! \n\n6pm: Meet at the Artisan House at 600 S Main Street in Los Angeles\nWalk to Skid Row a block away on the corner of Los Angeles Street and 6th Street\nHappy Hour on the street\nMeet back at the Artisan House for mixer
URL:https://www.silverlakelove.org/event/make-someone-happy-hour/
LOCATION:Artisan House\, 600 S Main Street\, Los Angeles\, CA\, United States
ATTACH;FMTTYPE=image/jpeg:https://www.silverlakelove.org/wp-content/uploads/2017/01/15774969_1760025787652613_8009464952853866783_o-1.jpg
END:VEVENT
BEGIN:VEVENT
DTSTART;TZID=UTC:20161208T180000
DTEND;TZID=UTC:20161208T200000
DTSTAMP:20260423T174206
CREATED:20170117T200128Z
LAST-MODIFIED:20170117T201313Z
UID:718-1481220000-1481227200@www.silverlakelove.org
SUMMARY:Make Someone Happy Hour
DESCRIPTION:The Silver Lake Love Make Someone Happy Hour ™is our take on Happy Hour. Instead of grabbing a drink after work\, grab your buddies and come make someone happy with us! \nHelp us break down the chasm of “us and them”\, there is only us. Make Someone Happy Hour is an hour of sharing\, love\, and connection for all walks of life. Come join us in discovering something new about our humanity! \n\n6pm: Meet at the Artisan House at 600 S Main Street in Los Angeles\nWalk to Skid Row a block away on the corner of Los Angeles Street and 6th Street\nHappy Hour on the street\nMeet back at the Artisan House for mixer
URL:https://www.silverlakelove.org/event/make-someone-happy-hour-2/
LOCATION:Artisan House\, 600 S Main Street\, Los Angeles\, CA\, United States
ATTACH;FMTTYPE=image/jpeg:https://www.silverlakelove.org/wp-content/uploads/2017/01/15774969_1760025787652613_8009464952853866783_o-1.jpg
END:VEVENT
BEGIN:VEVENT
DTSTART;TZID=UTC:20161201T180000
DTEND;TZID=UTC:20161201T200000
DTSTAMP:20260423T174206
CREATED:20170117T200128Z
LAST-MODIFIED:20170117T201720Z
UID:720-1480615200-1480622400@www.silverlakelove.org
SUMMARY:Make Someone Happy Hour
DESCRIPTION:The Silver Lake Love Make Someone Happy Hour ™is our take on Happy Hour. Instead of grabbing a drink after work\, grab your buddies and come make someone happy with us! \nHelp us break down the chasm of “us and them”\, there is only us. Make Someone Happy Hour is an hour of sharing\, love\, and connection for all walks of life. Come join us in discovering something new about our humanity! \n\n6pm: Meet at the Artisan House at 600 S Main Street in Los Angeles\nWalk to Skid Row a block away on the corner of Los Angeles Street and 6th Street\nHappy Hour on the street\nMeet back at the Artisan House for mixer
URL:https://www.silverlakelove.org/event/make-someone-happy-hour-2-2/
LOCATION:Artisan House\, 600 S Main Street\, Los Angeles\, CA\, United States
ATTACH;FMTTYPE=image/jpeg:https://www.silverlakelove.org/wp-content/uploads/2017/01/15774969_1760025787652613_8009464952853866783_o-1.jpg
END:VEVENT
BEGIN:VEVENT
DTSTART;TZID=UTC:20161108T113000
DTEND;TZID=UTC:20161111T150000
DTSTAMP:20260423T174206
CREATED:20170117T193022Z
LAST-MODIFIED:20170117T202054Z
UID:723-1478604600-1478876400@www.silverlakelove.org
SUMMARY:Haircuts for Homeless Veterans
DESCRIPTION:Silver Lake Love will team up with Haircuts\, Hugs\, and Hope to provide haircuts for homeless veterans of the United States Armed Forces in Los Angeles. \nFor Veterans Day\, 2016\, Silver Lake Love teams up with United States Army Veteran\, Joshua Eudy of North Carolina to provide haircuts to Veterans of the US Armed Forces. \nWe believe that haircuts help provide self esteem\, confidence\, a feeling of rebirth\, gratitude\, courage\, strength… and  HOPE. \nWe intend to promote this path to positivity haircuts to veterans. Our hope is to simply give our veterans a shining light into helping them achieve their dreams post-service. \nPlease join us as we honor the veterans that are down on their luck. We remember their service to freedom and our country this Veterans Day.
URL:https://www.silverlakelove.org/event/haircuts-for-homeless-veterans-2/
LOCATION:Los Angeles\, CA\, United States
ATTACH;FMTTYPE=image/jpeg:https://www.silverlakelove.org/wp-content/uploads/2017/01/IMG_20161109_1114381.jpg
END:VEVENT
BEGIN:VEVENT
DTSTART;VALUE=DATE:20160101
DTEND;VALUE=DATE:20160102
DTSTAMP:20260423T174206
CREATED:20170117T202533Z
LAST-MODIFIED:20170117T202533Z
UID:725-1451606400-1451692799@www.silverlakelove.org
SUMMARY:Silver Lake Love Gives Hope to Homeless in New York With Nicole Kulovany
DESCRIPTION:New York and Los Angeles are the two cities with the largest population of homeless in the United States. On December 30th\, Silver Lake\, Los Angeles meets New York in a night of compassion\, love and hope. \nHosted by Nicole Kulovany in collaboration with Silver Lake Love.
URL:https://www.silverlakelove.org/event/silver-lake-love-gives-hope-to-homeless-in-new-york-with-nicole-kulovany/
LOCATION:CA
ATTACH;FMTTYPE=image/jpeg:https://www.silverlakelove.org/wp-content/uploads/2016/01/IMG_4484-1.jpg
END:VEVENT
BEGIN:VEVENT
DTSTART;TZID=UTC:20151218T113000
DTEND;TZID=UTC:20151218T133000
DTSTAMP:20260423T174206
CREATED:20170117T203440Z
LAST-MODIFIED:20170117T203440Z
UID:735-1450438200-1450445400@www.silverlakelove.org
SUMMARY:LA5 Rotary Panel on Homelessness
DESCRIPTION:Rotary Club LA5 meeting at LAAC in downtown to discuss problems and solutions to the homelessness situation in Los Angeles. \nPanelists include: Councilmember Mitch Englander\, Miguel Santana\, Lloyd Pendleton\, and Donald Graham. \nTicket Purchases \n\nLA5 Members and Visiting Rotarians at the door: $45\nGuests and Walk-Ups at the door: $45\nNon-Diner Members at the door: $12.50\nCash Bar Pricing: $5 sodas; $10 beer\, wine and well cocktails; $15 premium\nParking: $7 with validation\nFRIDAY\, DECEMBER 18\, 2015 at 11:30 AM
URL:https://www.silverlakelove.org/event/la5-rotary-panel-on-homelessness/
LOCATION:CA
ATTACH;FMTTYPE=image/png:https://www.silverlakelove.org/wp-content/uploads/2017/01/14503801059861.png
END:VEVENT
BEGIN:VEVENT
DTSTART;TZID=UTC:20151217T183000
DTEND;TZID=UTC:20151217T210000
DTSTAMP:20260423T174206
CREATED:20170117T203241Z
LAST-MODIFIED:20170117T203241Z
UID:733-1450377000-1450386000@www.silverlakelove.org
SUMMARY:SLNC Govermental Affairs Committee Town Hall Meeting on Homelessness In Silver Lake
DESCRIPTION:Discuss initiatives on addressing the homelessness issue in Silver Lake\, Los Angeles\, CA. \nWhere:Holy Virgin Mary Russian Church\, 650 Micheltorena St.\, Los Angeles \nWhen:6:30PM on Thursday\, December 17th\, 2015
URL:https://www.silverlakelove.org/event/slnc-govermental-affairs-committee-town-hall-meeting-on-homelessness-in-silver-lake/
LOCATION:CA
ATTACH;FMTTYPE=image/png:https://www.silverlakelove.org/wp-content/uploads/2015/12/silverlake-logo1.png
END:VEVENT
BEGIN:VEVENT
DTSTART;TZID=UTC:20151121T070000
DTEND;TZID=UTC:20151121T170000
DTSTAMP:20260423T174206
CREATED:20170117T202730Z
LAST-MODIFIED:20170117T202749Z
UID:727-1448089200-1448125200@www.silverlakelove.org
SUMMARY:Silver Lake Love Teams Up With United Way Home Walk
DESCRIPTION:Silver Lake Love is joining the mission to end veteran homelessness in Los Angeles on Saturday\, November 21st. \nJoin team Silver Lake Love by registering to walk or run\, or by simply making a donation! 🙂 \n100% of your gift will go directly to services dedicated to ending homelessness in the greater Los Angeles area. \nThanks for your time and we hope to see you at the #TheHomeStretch in ending veteran homelessness in the United States!
URL:https://www.silverlakelove.org/event/silver-lake-love-teams-up-with-la-homewalk/
LOCATION:CA
ATTACH;FMTTYPE=image/jpeg:https://www.silverlakelove.org/wp-content/uploads/2017/01/14482942357791.jpg
END:VEVENT
BEGIN:VEVENT
DTSTART;TZID=UTC:20151111T180000
DTEND;TZID=UTC:20151111T210000
DTSTAMP:20260423T174206
CREATED:20170117T203009Z
LAST-MODIFIED:20170117T203009Z
UID:730-1447264800-1447275600@www.silverlakelove.org
SUMMARY:Silver Lake Love + From Bottom to Top
DESCRIPTION:Silver Lake Love is excited to team up with From Bottom to Top on Wednesday\, November 11th for an exciting gathering of filmmakers\, musicians\, writers\, designers\, artists and art lovers. Come learn more about From Bottom to Top and grab some rad Silver Lake Love bracelets. \nThere will be a special performance\, guest host and much more! \nFrom Bottom to Top donates 5% of their funds to the LAMP Arts program and their mission for the future is to create a foundation providing grants for ‘women artists who have been affected by homelessness’. \nFrom Bottom to Top is about unifying humanity through the arts by bringing together Artists that have a voice with those that haven’t been heard before. \nFor more about From Bottom to Top: www.frombottomtotop.org \nFor more about the event: https://www.facebook.com/events/1000628046625162/
URL:https://www.silverlakelove.org/event/silver-lake-love-from-bottom-to-top/
LOCATION:Space 15 Twenty\, 1520 Cahuenga Blvd\, Los Angeles\, CA\, United States
ATTACH;FMTTYPE=image/jpeg:https://www.silverlakelove.org/wp-content/uploads/2015/11/img-17.jpg
END:VEVENT
END:VCALENDAR